Workbook

Sheet vstupní data
A1: Název projektu: Vytvoření metodiky a nástrojů sledování finančního zdraví obcí
A2: Evidenční číslo projektu: 02027/2017/FIN
A11: PRO SPRÁVNÝ VÝPOČET JEDNOTLIVÝCH UKAZATELŮ JE NEZBYTNÉ VYPLNIT VŠECHNA ŠEDĚ PODBARVENÁ POLE PRO VSTUPNÍ DATA
A13: Rozpočet (výkaz FIN)
A15: Daňové příjmy: Třída 1
A16: Nedaňové příjmy: Třída 2
A17: Kapitálové příjmy: Třída 3
A18: Přijaté neinvestiční transfery: Třída 4
A19: Běžné výdaje: Třída 5
A20: Kapitálové výdaje: Třída 6
A21: Celkové konsolidované příjmy: číslo řádku 4200
A22: Celkové konsolidované výdaje: číslo řádku 4430
... A45: Převody mezi statutárními městy a jejich obvody nebo částmi: položka 5347
A46: Převody do vlastní pokladny: položka 5348 | E46: ;
A47: Ostatní převody vlastním fondům: položka 5349
A49: Splátky emitovaných dluhopisů: součet položek 8xx2
A50: Splátky krátkodobých přijatých půjčených prostředků: součet položek 8x14
A51: Krátkodobé přijaté půjčené prostředky: součet položek 8x13
A52: Splátky dlouhodobých přijatých půjčených prostředků: součet položek 8x24
A53: Dlouhodobé přijaté půjčené prostředky: součet položek 8x23
A56: Rozvaha - bilance
A58: Stálá aktiva (brutto): položka A
A59: Oběžná aktiva (brutto): položka B
A60: Stálá aktiva (netto): položka A
A61: Oběžná aktiva (netto): položka B
A62: Krátkodobý finanční majetek: položka B, III – krátkodobý finanční majetek
... A84: ostatní dlouhodobé závazky: 459

Sheet vypočtené indikátory
A1: Název projektu: Vytvoření metodiky a nástrojů sledování finančního zdraví obcí
A2: Evidenční číslo projektu: 02027/2017/FIN
A12: Indikátory hodnotící rozpočtové hospodaření
A13: Rozpočtové saldo (RS): | B13: ='vstupní data'!B24/-'vstupní data'!B21 -> #DIV/0! | C13: procenta
A14: Podíl přebytku běžného rozpočtu na běžných příjmech (SBR): | B14: =('pomocne vypocty-skryt'!B6-'pomocne vypocty-skryt'!B7)/'pomocne vypocty-skryt'!B6 -> #DIV/0! | C14: procenta
A15: Podíl finančních zůstatků na účtech a pokladně k běžným výdajům (BUKBV): | B15: =(('vstupní data'!B62+'vstupní data'!B67)/('pomocne vypocty-skryt'!B7))*12 -> #DIV/0! | C15: měsíce
A16: Podíl finančních zůstatků na účtech a pokladně k běžným příjmům (BUKBP): | B16: =('vstupní data'!B62+'vstupní data'!B67)/'pomocne vypocty-skryt'!B6 -> #DIV/0! | C16: procenta
A17: Celkové konsolidované výdaje na běžných příjmech (KVBP): | B17: ='vstupní data'!B22/'pomocne vypocty-skryt'!B6 -> #DIV/0! | C17: koeficient
A18: Přijaté transfery na kapitálových výdajích (TRKV): | B18: ='vstupní data'!B18/'vstupní data'!B20 -> #DIV/0! | C18: procenta
A19: Podíl vlastních příjmů na celkových příjmech (VPCP): | B19: =('vstupní data'!B15+'vstupní data'!B16+'vstupní data'!B17)/'vstupní data'!B21 -> #DIV/0! | C19: procenta
A21: Indikátory hodnotící zadluženost municipality
A22: Podíl celkového dluhu na saldu běžného rozpočtu (CDSBR): | B22: =(('pomocne vypocty-skryt'!B5)/('pomocne vypocty-skryt'!B6-'pomocne vypocty-skryt'!B7+'vstupní data'!B23))*12 -> #DIV/0! | C22: měsíce
A23: Podíl dluhové služby a dluhové kapacity (DSSBR): | B23: =('vstupní data'!B23+'vstupní data'!B49+'pomocne vypocty-skryt'!B9+'pomocne vypocty-skryt'!B10)/('pomocne vypocty-skryt'!B6-'pomocne vypocty-skryt'!B7+'vstupní data'!B23) -> #DIV/0! | C23: procenta
A24: Podíl placených úroků a dluhové kapacity (PUSBR): | B24: =('vstupní data'!B23)/('pomocne vypocty-skryt'!B6-'pomocne vypocty-skryt'!B7+'vstupní data'!B23) -> #DIV/0! | C24: procenta
A25: Podíl cizích zdrojů a celkových aktiv (CZCA): | B25: ='vstupní data'!B63/'pomocne vypocty-skryt'!B4 -> #DIV/0! | C25: procenta
A26: Podíl cizích zdrojů bez dotačních záloh a celkových aktiv (CZCA1): | B26: =('vstupní data'!B63-'vstupní data'!B66)/'pomocne vypocty-skryt'!B4 -> #DIV/0! | C26: procenta
A27: Podíl celkového dluhu na cizích zdrojích (DCZ): | B27: ='pomocne vypocty-skryt'!B5/'vstupní data'!B63 -> #DIV/0! | C27: procenta | D27: čím je procento nižší, tím je finanční situace municipality lepší.
A28: Dluhová služba celkem (DSC): | B28: ='pomocne vypocty-skryt'!B5/'vstupní data'!B21 -> #DIV/0! | C28: procenta
A29: Podíl celkového dluhu na běžných příjmech (DBP): | B29: ='pomocne vypocty-skryt'!B5/'pomocne vypocty-skryt'!B6 -> #DIV/0! | C29: procenta
A31: Indikátory hodnotící likviditu municipality
A32: Celková (běžná) likvidita (CL): | B32: ='vstupní data'!B61/'vstupní data'!B65 -> #DIV/0! | C32: koeficient
A33: Okamžitá likvidita (OL): | B33: ='vstupní data'!B62/'vstupní data'!B65 -> #DIV/0! | C33: koeficient
A34: Finanční zásoba (FZ): | B34: =('vstupní data'!B62+'vstupní data'!B67)/('vstupní data'!B65+'vstupní data'!B64) -> #DIV/0! | C34: koeficient

Sheet pomocne vypocty-skryt
A3: VYPOČTENÉ ZE VSTUPNÍCH ÚDAJŮ
A4: aktiva celkem brutto | B4: ='vstupní data'!B58+'vstupní data'!B59 -> 0
A5: celkový dluh | B5: =SUM('vstupní data'!B73:B84) -> 0
A6: běžné příjmy | B6: ='vstupní data'!B15+'vstupní data'!B16+SUM('vstupní data'!B26:B40) -> 0
A7: konsolidované běžné výdaje | B7: ='vstupní data'!B19-'vstupní data'!B42-'vstupní data'!B43-'vstupní data'!B44-'vstupní data'!B45-'vstupní data'!B46-'vstupní data'!B47 -> 0
A9: Kladný rozdíl položek 8114+8113 | B9: =IF(D9>0,D9,0) -> 0 | D9: ='vstupní data'!B50-'vstupní data'!B51 -> 0
A10: Kladný rozdíl položek 8124+8123 | B10: =IF(D10>0,D10,0) -> 0 | D10: ='vstupní data'!B52-'vstupní data'!B53 -> 0
A15: POZNÁMKY
A17: Celkový dluh: rozvaha – syntetické účty:
A18: 281 | B18: krátkodobé úvěry
A19: 282 | B19: eskontované krátkodobé dluhopisy (směnky)
A20: 283 | B20: krátkodobé závazky z vydaných dluhopisů
A21: 289 | B21: jiné krátkodobé půjčky
A22: 322 | B22: směnky k úhradě
A23: 326 | B23: přijaté návratné krátkodobé finanční výpomoci
A24: 362 | B24: krátkodobé závazky z ručení
A25: 451 | B25: dlouhodobé úvěry
A26: 452 | B26: přijaté návratné dlouhodobé finanční výpomoci
A27: 453 | B27: dlouhodobé závazky z vydaných dluhopisů
A28: 456 | B28: dlouhodobé závazky z ručení
A29: 459 | B29: ostatní dlouhodobé závazky
A32: Běžné příjmy:
A33: součet daňových, nedaňových příjmů a přijatých neinvestičních transferů
A34: TŘÍDA1+TŘÍDA2+TŘÍDA4+soucet sumy polozek 4
A35: Přijaté neinvestiční transfery: | B35: rozpočet (výkaz FIN), položky 4111, 4112, 4116, 4119, 4121, 4122, 4123, 4129, 4151, 4152, 4153, 4155, 4156, 4159, 4160
A38: Konsolidované běžné výdaje:
A39: Běžné výdaje – položka 5342 – položka 5344 – položka 5345 – položka 5347 – položka 5348 – položka 5349
